BEGIN:VCALENDAR
VERSION:2.0
PRODID:-//Arc En Ciel Saint Priest - ECPv6.15.20//NONSGML v1.0//EN
CALSCALE:GREGORIAN
METHOD:PUBLISH
X-WR-CALNAME:Arc En Ciel Saint Priest
X-ORIGINAL-URL:https://aecsp.net
X-WR-CALDESC:Évènements pour Arc En Ciel Saint Priest
REFRESH-INTERVAL;VALUE=DURATION:PT1H
X-Robots-Tag:noindex
X-PUBLISHED-TTL:PT1H
BEGIN:VTIMEZONE
TZID:Europe/Paris
BEGIN:DAYLIGHT
TZOFFSETFROM:+0100
TZOFFSETTO:+0200
TZNAME:CEST
DTSTART:20210328T010000
END:DAYLIGHT
BEGIN:STANDARD
TZOFFSETFROM:+0200
TZOFFSETTO:+0100
TZNAME:CET
DTSTART:20211031T010000
END:STANDARD
BEGIN:DAYLIGHT
TZOFFSETFROM:+0100
TZOFFSETTO:+0200
TZNAME:CEST
DTSTART:20220327T010000
END:DAYLIGHT
BEGIN:STANDARD
TZOFFSETFROM:+0200
TZOFFSETTO:+0100
TZNAME:CET
DTSTART:20221030T010000
END:STANDARD
BEGIN:DAYLIGHT
TZOFFSETFROM:+0100
TZOFFSETTO:+0200
TZNAME:CEST
DTSTART:20230326T010000
END:DAYLIGHT
BEGIN:STANDARD
TZOFFSETFROM:+0200
TZOFFSETTO:+0100
TZNAME:CET
DTSTART:20231029T010000
END:STANDARD
END:VTIMEZONE
BEGIN:VEVENT
DTSTART;TZID=Europe/Paris:20221203T140000
DTEND;TZID=Europe/Paris:20221203T163000
DTSTAMP:20260425T151229
CREATED:20221127T163448Z
LAST-MODIFIED:20221127T163448Z
UID:1333-1670076000-1670085000@aecsp.net
SUMMARY:Osons le sport !
DESCRIPTION:
URL:https://aecsp.net/event/osons-le-sport/
END:VEVENT
BEGIN:VEVENT
DTSTART;TZID=Europe/Paris:20221206T200000
DTEND;TZID=Europe/Paris:20221206T220000
DTSTAMP:20260425T151229
CREATED:20221107T171450Z
LAST-MODIFIED:20221107T171450Z
UID:1181-1670356800-1670364000@aecsp.net
SUMMARY:2ème manche du Challenge
DESCRIPTION:
URL:https://aecsp.net/event/2eme-manche-du-challenge/
END:VEVENT
BEGIN:VEVENT
DTSTART;TZID=Europe/Paris:20221217T150000
DTEND;TZID=Europe/Paris:20221217T200000
DTSTAMP:20260425T151229
CREATED:20221214T143404Z
LAST-MODIFIED:20221214T143404Z
UID:1368-1671289200-1671307200@aecsp.net
SUMMARY:Animation de Noël
DESCRIPTION:
URL:https://aecsp.net/event/1368/
END:VEVENT
END:VCALENDAR