BEGIN:VCALENDAR
VERSION:2.0
PRODID:-//Arc En Ciel Saint Priest - ECPv6.15.20//NONSGML v1.0//EN
CALSCALE:GREGORIAN
METHOD:PUBLISH
X-WR-CALNAME:Arc En Ciel Saint Priest
X-ORIGINAL-URL:https://aecsp.net
X-WR-CALDESC:Évènements pour Arc En Ciel Saint Priest
REFRESH-INTERVAL;VALUE=DURATION:PT1H
X-Robots-Tag:noindex
X-PUBLISHED-TTL:PT1H
BEGIN:VTIMEZONE
TZID:Europe/Paris
BEGIN:DAYLIGHT
TZOFFSETFROM:+0100
TZOFFSETTO:+0200
TZNAME:CEST
DTSTART:20210328T010000
END:DAYLIGHT
BEGIN:STANDARD
TZOFFSETFROM:+0200
TZOFFSETTO:+0100
TZNAME:CET
DTSTART:20211031T010000
END:STANDARD
BEGIN:DAYLIGHT
TZOFFSETFROM:+0100
TZOFFSETTO:+0200
TZNAME:CEST
DTSTART:20220327T010000
END:DAYLIGHT
BEGIN:STANDARD
TZOFFSETFROM:+0200
TZOFFSETTO:+0100
TZNAME:CET
DTSTART:20221030T010000
END:STANDARD
BEGIN:DAYLIGHT
TZOFFSETFROM:+0100
TZOFFSETTO:+0200
TZNAME:CEST
DTSTART:20230326T010000
END:DAYLIGHT
BEGIN:STANDARD
TZOFFSETFROM:+0200
TZOFFSETTO:+0100
TZNAME:CET
DTSTART:20231029T010000
END:STANDARD
END:VTIMEZONE
BEGIN:VEVENT
DTSTART;TZID=Europe/Paris:20220904T100000
DTEND;TZID=Europe/Paris:20220904T180000
DTSTAMP:20260425T200114
CREATED:20220830T160948Z
LAST-MODIFIED:20220830T160948Z
UID:445-1662285600-1662314400@aecsp.net
SUMMARY:Carrefour des associations
DESCRIPTION:Dimanche 4 septembre de 10h à 18h. Parc du Château. Entrée gratuite. \nBien sûr\, le club sera présent ce jour\, en plus de l’après midi « portes ouvertes » \nLes associations accueillant un public handicapé seront identifiées par un petit logo. \nEn cas de conditions météo défavorables\, l’événement sera déplacé à la salle Mosaïque. 
URL:https://aecsp.net/event/carrefour-des-asoociations/
END:VEVENT
BEGIN:VEVENT
DTSTART;TZID=Europe/Paris:20220904T140000
DTEND;TZID=Europe/Paris:20220904T180000
DTSTAMP:20260425T200114
CREATED:20210830T110330Z
LAST-MODIFIED:20210830T110330Z
UID:495-1662300000-1662314400@aecsp.net
SUMMARY:Portes ouvertes
DESCRIPTION:Flyer portes ouvertes Journee Assoc 04 sept v2
URL:https://aecsp.net/event/portes-ouvertes-2/
END:VEVENT
END:VCALENDAR