BEGIN:VCALENDAR
VERSION:2.0
PRODID:-//Arc En Ciel Saint Priest - ECPv6.15.20//NONSGML v1.0//EN
CALSCALE:GREGORIAN
METHOD:PUBLISH
X-WR-CALNAME:Arc En Ciel Saint Priest
X-ORIGINAL-URL:https://aecsp.net
X-WR-CALDESC:Évènements pour Arc En Ciel Saint Priest
REFRESH-INTERVAL;VALUE=DURATION:PT1H
X-Robots-Tag:noindex
X-PUBLISHED-TTL:PT1H
BEGIN:VTIMEZONE
TZID:Europe/Paris
BEGIN:DAYLIGHT
TZOFFSETFROM:+0100
TZOFFSETTO:+0200
TZNAME:CEST
DTSTART:20210328T010000
END:DAYLIGHT
BEGIN:STANDARD
TZOFFSETFROM:+0200
TZOFFSETTO:+0100
TZNAME:CET
DTSTART:20211031T010000
END:STANDARD
BEGIN:DAYLIGHT
TZOFFSETFROM:+0100
TZOFFSETTO:+0200
TZNAME:CEST
DTSTART:20220327T010000
END:DAYLIGHT
BEGIN:STANDARD
TZOFFSETFROM:+0200
TZOFFSETTO:+0100
TZNAME:CET
DTSTART:20221030T010000
END:STANDARD
BEGIN:DAYLIGHT
TZOFFSETFROM:+0100
TZOFFSETTO:+0200
TZNAME:CEST
DTSTART:20230326T010000
END:DAYLIGHT
BEGIN:STANDARD
TZOFFSETFROM:+0200
TZOFFSETTO:+0100
TZNAME:CET
DTSTART:20231029T010000
END:STANDARD
END:VTIMEZONE
BEGIN:VEVENT
DTSTART;TZID=Europe/Paris:20220305T140000
DTEND;TZID=Europe/Paris:20220305T183000
DTSTAMP:20260426T054733
CREATED:20220204T115405Z
LAST-MODIFIED:20220204T115405Z
UID:837-1646488800-1646505000@aecsp.net
SUMMARY:Passage de flèches
DESCRIPTION:Le club organise un passage de flèches (de blanc à jaune) le samedi 5 février 2022\, à partir de 14h00. \nSi vous êtes intéressés\, veuillez vous inscrire sur le doodle suivant :\nhttps://doodle.com/poll/ucwfinrcydne634b?utm_source=poll&utm_medium=link \nLes horaires précis (fonction du nombre d’archers et des flèches souhaitées) seront communiqués début mars
URL:https://aecsp.net/event/passage-de-fleches/
END:VEVENT
BEGIN:VEVENT
DTSTART;TZID=Europe/Paris:20220318T190000
DTEND;TZID=Europe/Paris:20220318T220000
DTSTAMP:20260426T054733
CREATED:20211110T131832Z
LAST-MODIFIED:20211110T131832Z
UID:574-1647630000-1647640800@aecsp.net
SUMMARY:Assemblée Générale
DESCRIPTION:Convocation à notre assemblée générale élective 2022 :  convocation AG 2022
URL:https://aecsp.net/event/assemblee-generale-2/
ATTACH;FMTTYPE=image/jpeg:https://aecsp.net/wp-content/uploads/2021/11/ag2021-1.jpg
END:VEVENT
BEGIN:VEVENT
DTSTART;TZID=Europe/Paris:20220319T093000
DTEND;TZID=Europe/Paris:20220319T123000
DTSTAMP:20260426T054733
CREATED:20220307T115159Z
LAST-MODIFIED:20220307T115159Z
UID:941-1647682200-1647693000@aecsp.net
SUMMARY:Tournoi Poussins
DESCRIPTION:2022_Invitation_Tournoi-Poussins
URL:https://aecsp.net/event/tournoi-poussins/
END:VEVENT
END:VCALENDAR