BEGIN:VCALENDAR
VERSION:2.0
PRODID:-//Arc En Ciel Saint Priest - ECPv6.15.20//NONSGML v1.0//EN
CALSCALE:GREGORIAN
METHOD:PUBLISH
X-ORIGINAL-URL:https://aecsp.net
X-WR-CALDESC:Évènements pour Arc En Ciel Saint Priest
REFRESH-INTERVAL;VALUE=DURATION:PT1H
X-Robots-Tag:noindex
X-PUBLISHED-TTL:PT1H
BEGIN:VTIMEZONE
TZID:Europe/Paris
BEGIN:DAYLIGHT
TZOFFSETFROM:+0100
TZOFFSETTO:+0200
TZNAME:CEST
DTSTART:20230326T010000
END:DAYLIGHT
BEGIN:STANDARD
TZOFFSETFROM:+0200
TZOFFSETTO:+0100
TZNAME:CET
DTSTART:20231029T010000
END:STANDARD
BEGIN:DAYLIGHT
TZOFFSETFROM:+0100
TZOFFSETTO:+0200
TZNAME:CEST
DTSTART:20240331T010000
END:DAYLIGHT
BEGIN:STANDARD
TZOFFSETFROM:+0200
TZOFFSETTO:+0100
TZNAME:CET
DTSTART:20241027T010000
END:STANDARD
BEGIN:DAYLIGHT
TZOFFSETFROM:+0100
TZOFFSETTO:+0200
TZNAME:CEST
DTSTART:20250330T010000
END:DAYLIGHT
BEGIN:STANDARD
TZOFFSETFROM:+0200
TZOFFSETTO:+0100
TZNAME:CET
DTSTART:20251026T010000
END:STANDARD
END:VTIMEZONE
BEGIN:VEVENT
DTSTART;TZID=Europe/Paris:20240316T093000
DTEND;TZID=Europe/Paris:20240316T130000
DTSTAMP:20260424T150728
CREATED:20240224T155556Z
LAST-MODIFIED:20240224T155556Z
UID:2430-1710581400-1710594000@aecsp.net
SUMMARY:Tournoi Poussin 2024
DESCRIPTION:
URL:https://aecsp.net/event/tournoi-poussin-2024/
END:VEVENT
BEGIN:VEVENT
DTSTART;TZID=Europe/Paris:20240316T140000
DTEND;TZID=Europe/Paris:20240316T190000
DTSTAMP:20260424T150728
CREATED:20240224T155221Z
LAST-MODIFIED:20240224T155221Z
UID:2428-1710597600-1710615600@aecsp.net
SUMMARY:Passage de flèches en salle (10-30m)
DESCRIPTION:
URL:https://aecsp.net/event/passage-de-fleches-en-salle-10-30m/
END:VEVENT
END:VCALENDAR